Package: proActiv Version: 1.19.0 Command: /home/biocbuild/R/R/bin/R CMD INSTALL proActiv StartedAt: 2025-06-30 21:04:12 -0000 (Mon, 30 Jun 2025) EndedAt: 2025-06-30 21:05:03 -0000 (Mon, 30 Jun 2025) EllapsedTime: 50.7 seconds RetCode: 0 Status: OK