Package: proActiv Version: 1.19.0 Command: /home/biocbuild/R/R/bin/R CMD check --install=check:proActiv.install-out.txt --library=/home/biocbuild/R/R/site-library --no-vignettes --timings proActiv_1.19.0.tar.gz StartedAt: 2025-07-01 10:31:52 -0000 (Tue, 01 Jul 2025) EndedAt: 2025-07-01 10:38:38 -0000 (Tue, 01 Jul 2025) EllapsedTime: 406.3 seconds RetCode: 1 Status: ERROR CheckDir: proActiv.Rcheck Warnings: NA