Package: proActiv Version: 1.19.0 Command: /home/biocbuild/R/R/bin/R CMD build --keep-empty-dirs --no-resave-data proActiv StartedAt: 2025-07-01 01:56:41 -0000 (Tue, 01 Jul 2025) EndedAt: 2025-07-01 01:57:59 -0000 (Tue, 01 Jul 2025) EllapsedTime: 78.1 seconds RetCode: 0 Status: OK PackageFile: proActiv_1.19.0.tar.gz PackageFileSize: 2.582 MiB