Package: proActiv Version: 1.19.2 Command: F:\biocbuild\bbs-3.22-bioc\R\bin\R.exe CMD check --no-multiarch --install=check:proActiv.install-out.txt --library=F:\biocbuild\bbs-3.22-bioc\R\library --no-vignettes --timings proActiv_1.19.2.tar.gz StartedAt: 2025-07-21 05:22:01 -0400 (Mon, 21 Jul 2025) EndedAt: 2025-07-21 05:29:14 -0400 (Mon, 21 Jul 2025) EllapsedTime: 433.9 seconds RetCode: 0 Status: OK CheckDir: proActiv.Rcheck Warnings: 0