Package: proActiv Version: 1.19.2 Command: chmod a+r proActiv -R && F:\biocbuild\bbs-3.22-bioc\R\bin\R.exe CMD build --keep-empty-dirs --no-resave-data proActiv StartedAt: 2025-07-20 21:16:46 -0400 (Sun, 20 Jul 2025) EndedAt: 2025-07-20 21:18:16 -0400 (Sun, 20 Jul 2025) EllapsedTime: 90.3 seconds RetCode: 0 Status: OK PackageFile: proActiv_1.19.2.tar.gz PackageFileSize: 2.573 MiB