Package: proActiv Version: 1.19.2 Command: rm -rf proActiv.buildbin-libdir && mkdir proActiv.buildbin-libdir && F:\biocbuild\bbs-3.22-bioc\R\bin\R.exe CMD INSTALL --build --library=proActiv.buildbin-libdir proActiv_1.19.2.tar.gz StartedAt: 2025-07-21 09:44:28 -0400 (Mon, 21 Jul 2025) EndedAt: 2025-07-21 09:45:46 -0400 (Mon, 21 Jul 2025) EllapsedTime: 78.0 seconds RetCode: 0 Status: OK PackageFile: proActiv_1.19.2.zip PackageFileSize: 2.666 MiB