Package: proActiv Version: 1.19.2 Command: /Library/Frameworks/R.framework/Resources/bin/R CMD build --keep-empty-dirs --no-resave-data proActiv StartedAt: 2025-07-14 18:06:35 -0400 (Mon, 14 Jul 2025) EndedAt: 2025-07-14 18:07:37 -0400 (Mon, 14 Jul 2025) EllapsedTime: 62.7 seconds RetCode: 0 Status: OK PackageFile: proActiv_1.19.2.tar.gz PackageFileSize: 2.682 MiB