Package: proActiv Version: 1.19.2 Command: /Library/Frameworks/R.framework/Resources/bin/R CMD INSTALL proActiv StartedAt: 2025-07-15 15:19:26 -0400 (Tue, 15 Jul 2025) EndedAt: 2025-07-15 15:19:43 -0400 (Tue, 15 Jul 2025) EllapsedTime: 16.5 seconds RetCode: 0 Status: OK