Package: proActiv Version: 1.19.2 Command: /Library/Frameworks/R.framework/Resources/bin/R CMD check --install=check:proActiv.install-out.txt --library=/Library/Frameworks/R.framework/Resources/library --no-vignettes --timings proActiv_1.19.2.tar.gz StartedAt: 2025-07-17 20:56:43 -0400 (Thu, 17 Jul 2025) EndedAt: 2025-07-17 20:59:01 -0400 (Thu, 17 Jul 2025) EllapsedTime: 138.7 seconds RetCode: 0 Status: OK CheckDir: proActiv.Rcheck Warnings: 0