Package: proActiv Version: 1.19.2 Command: rm -rf proActiv.buildbin-libdir && mkdir proActiv.buildbin-libdir && /Users/biocbuild/BBS/utils/build-universal.sh proActiv_1.19.2.tar.gz /Library/Frameworks/R.framework/Resources/bin/R proActiv.buildbin-libdir StartedAt: 2025-07-16 22:29:08 -0400 (Wed, 16 Jul 2025) EndedAt: 2025-07-16 22:29:25 -0400 (Wed, 16 Jul 2025) EllapsedTime: 17.4 seconds RetCode: 0 Status: OK PackageFile: proActiv_1.19.2.tgz PackageFileSize: 2.779 MiB