Package: primirTSS Version: 1.27.0 Command: /home/biocbuild/R/R/bin/R CMD INSTALL primirTSS StartedAt: 2025-06-30 21:16:38 -0000 (Mon, 30 Jun 2025) EndedAt: 2025-06-30 21:16:39 -0000 (Mon, 30 Jun 2025) EllapsedTime: 1.3 seconds RetCode: 1 Status: ERROR