Package: primirTSS Version: 1.27.0 Command: /home/biocbuild/R/R/bin/R CMD build --keep-empty-dirs --no-resave-data primirTSS StartedAt: 2025-07-01 01:56:37 -0000 (Tue, 01 Jul 2025) EndedAt: 2025-07-01 01:56:38 -0000 (Tue, 01 Jul 2025) EllapsedTime: 1.0 seconds RetCode: 1 Status: ERROR PackageFile: None PackageFileSize: NA