Package: primirTSS Version: 1.27.0 Command: /Library/Frameworks/R.framework/Resources/bin/R CMD INSTALL primirTSS StartedAt: 2025-07-13 15:43:01 -0400 (Sun, 13 Jul 2025) EndedAt: 2025-07-13 15:43:58 -0400 (Sun, 13 Jul 2025) EllapsedTime: 56.8 seconds RetCode: 0 Status: OK