Package: primirTSS Version: 1.27.0 Command: rm -rf primirTSS.buildbin-libdir && mkdir primirTSS.buildbin-libdir && /Users/biocbuild/BBS/utils/build-universal.sh primirTSS_1.27.0.tar.gz /Library/Frameworks/R.framework/Resources/bin/R primirTSS.buildbin-libdir StartedAt: 2025-07-14 01:13:00 -0400 (Mon, 14 Jul 2025) EndedAt: 2025-07-14 01:13:59 -0400 (Mon, 14 Jul 2025) EllapsedTime: 59.1 seconds RetCode: 0 Status: OK PackageFile: primirTSS_1.27.0.tgz PackageFileSize: 3.779 MiB