Package: primirTSS Version: 1.27.0 Command: /Library/Frameworks/R.framework/Resources/bin/R CMD INSTALL primirTSS StartedAt: 2025-07-01 15:25:52 -0400 (Tue, 01 Jul 2025) EndedAt: 2025-07-01 15:26:09 -0400 (Tue, 01 Jul 2025) EllapsedTime: 16.9 seconds RetCode: 0 Status: OK