Package: primirTSS Version: 1.27.0 Command: rm -rf primirTSS.buildbin-libdir && mkdir primirTSS.buildbin-libdir && /Users/biocbuild/BBS/utils/build-universal.sh primirTSS_1.27.0.tar.gz /Library/Frameworks/R.framework/Resources/bin/R primirTSS.buildbin-libdir StartedAt: 2025-07-01 22:29:45 -0400 (Tue, 01 Jul 2025) EndedAt: 2025-07-01 22:30:04 -0400 (Tue, 01 Jul 2025) EllapsedTime: 18.4 seconds RetCode: 0 Status: OK PackageFile: primirTSS_1.27.0.tgz PackageFileSize: 3.779 MiB