Package: preciseTAD Version: 1.19.0 Command: F:\biocbuild\bbs-3.22-bioc\R\bin\R.exe CMD INSTALL preciseTAD StartedAt: 2025-07-15 17:09:42 -0400 (Tue, 15 Jul 2025) EndedAt: 2025-07-15 17:10:35 -0400 (Tue, 15 Jul 2025) EllapsedTime: 53.6 seconds RetCode: 0 Status: OK