Package: prebs Version: 1.49.1 Command: /Library/Frameworks/R.framework/Resources/bin/R CMD INSTALL prebs StartedAt: 2025-10-05 15:15:56 -0400 (Sun, 05 Oct 2025) EndedAt: 2025-10-05 15:16:09 -0400 (Sun, 05 Oct 2025) EllapsedTime: 13.1 seconds RetCode: 0 Status: OK