Package: prebs Version: 1.49.1 Command: /Library/Frameworks/R.framework/Resources/bin/R CMD build --keep-empty-dirs --no-resave-data prebs StartedAt: 2025-10-05 17:24:41 -0400 (Sun, 05 Oct 2025) EndedAt: 2025-10-05 17:25:38 -0400 (Sun, 05 Oct 2025) EllapsedTime: 57.6 seconds RetCode: 0 Status: OK PackageFile: prebs_1.49.1.tar.gz PackageFileSize: 282.3 KiB