Package: prebs Version: 1.49.1 Command: rm -rf prebs.buildbin-libdir && mkdir prebs.buildbin-libdir && /Users/biocbuild/BBS/utils/build-universal.sh prebs_1.49.1.tar.gz /Library/Frameworks/R.framework/Resources/bin/R prebs.buildbin-libdir StartedAt: 2025-10-05 22:54:17 -0400 (Sun, 05 Oct 2025) EndedAt: 2025-10-05 22:54:31 -0400 (Sun, 05 Oct 2025) EllapsedTime: 14.3 seconds RetCode: 0 Status: OK PackageFile: prebs_1.49.1.tgz PackageFileSize: 412.9 KiB