Package: pram Version: 1.25.1 Command: rm -rf pram.buildbin-libdir && mkdir pram.buildbin-libdir && F:\biocbuild\bbs-3.22-bioc\R\bin\R.exe CMD INSTALL --build --library=pram.buildbin-libdir pram_1.25.1.tar.gz StartedAt: 2025-08-15 10:59:12 -0400 (Fri, 15 Aug 2025) EndedAt: 2025-08-15 11:00:38 -0400 (Fri, 15 Aug 2025) EllapsedTime: 85.4 seconds RetCode: 0 Status: OK PackageFile: pram_1.25.1.zip PackageFileSize: 2.501 MiB