Package: pqsfinder Version: 2.25.0 Command: /home/biocbuild/R/R/bin/R CMD INSTALL pqsfinder StartedAt: 2025-07-24 21:16:40 -0000 (Thu, 24 Jul 2025) EndedAt: 2025-07-24 21:16:44 -0000 (Thu, 24 Jul 2025) EllapsedTime: 3.7 seconds RetCode: 1 Status: ERROR