Package: pqsfinder Version: 2.25.0 Command: /home/biocbuild/R/R/bin/R CMD build --keep-empty-dirs --no-resave-data pqsfinder StartedAt: 2025-07-25 02:54:19 -0000 (Fri, 25 Jul 2025) EndedAt: 2025-07-25 02:54:23 -0000 (Fri, 25 Jul 2025) EllapsedTime: 4.0 seconds RetCode: 1 Status: ERROR PackageFile: None PackageFileSize: NA