Package: pqsfinder Version: 2.25.0 Command: F:\biocbuild\bbs-3.22-bioc\R\bin\R.exe CMD INSTALL pqsfinder StartedAt: 2025-07-24 15:55:54 -0400 (Thu, 24 Jul 2025) EndedAt: 2025-07-24 15:57:34 -0400 (Thu, 24 Jul 2025) EllapsedTime: 100.4 seconds RetCode: 0 Status: OK