Package: pqsfinder Version: 2.25.0 Command: /home/biocbuild/bbs-3.22-bioc/R/bin/R CMD INSTALL pqsfinder StartedAt: 2025-07-18 15:13:34 -0400 (Fri, 18 Jul 2025) EndedAt: 2025-07-18 15:14:16 -0400 (Fri, 18 Jul 2025) EllapsedTime: 41.6 seconds RetCode: 0 Status: OK