Package: pqsfinder Version: 2.25.0 Command: /home/biocbuild/bbs-3.22-bioc/R/bin/R CMD check --install=check:pqsfinder.install-out.txt --library=/home/biocbuild/bbs-3.22-bioc/R/site-library --timings pqsfinder_2.25.0.tar.gz StartedAt: 2025-07-19 01:21:15 -0400 (Sat, 19 Jul 2025) EndedAt: 2025-07-19 01:25:15 -0400 (Sat, 19 Jul 2025) EllapsedTime: 240.2 seconds RetCode: 0 Status: WARNINGS CheckDir: pqsfinder.Rcheck Warnings: 1