Package: pqsfinder Version: 2.25.0 Command: /Library/Frameworks/R.framework/Resources/bin/R CMD INSTALL pqsfinder StartedAt: 2025-10-05 15:10:40 -0400 (Sun, 05 Oct 2025) EndedAt: 2025-10-05 15:10:53 -0400 (Sun, 05 Oct 2025) EllapsedTime: 12.7 seconds RetCode: 0 Status: OK