Package: pqsfinder Version: 2.25.0 Command: /Library/Frameworks/R.framework/Resources/bin/R CMD build --keep-empty-dirs --no-resave-data pqsfinder StartedAt: 2025-10-03 17:21:59 -0400 (Fri, 03 Oct 2025) EndedAt: 2025-10-03 17:22:51 -0400 (Fri, 03 Oct 2025) EllapsedTime: 51.6 seconds RetCode: 0 Status: OK PackageFile: pqsfinder_2.25.0.tar.gz PackageFileSize: 377.5 KiB