Package: pogos Version: 1.29.0 Command: /home/biocbuild/R/R/bin/R CMD build --keep-empty-dirs --no-resave-data pogos StartedAt: 2025-07-22 01:56:38 -0000 (Tue, 22 Jul 2025) EndedAt: 2025-07-22 01:59:43 -0000 (Tue, 22 Jul 2025) EllapsedTime: 185.1 seconds RetCode: 0 Status: OK PackageFile: pogos_1.29.0.tar.gz PackageFileSize: 1.747 MiB