Package: pogos Version: 1.29.0 Command: rm -rf pogos.buildbin-libdir && mkdir pogos.buildbin-libdir && F:\biocbuild\bbs-3.22-bioc\R\bin\R.exe CMD INSTALL --build --library=pogos.buildbin-libdir pogos_1.29.0.tar.gz StartedAt: 2025-07-23 09:48:59 -0400 (Wed, 23 Jul 2025) EndedAt: 2025-07-23 09:49:50 -0400 (Wed, 23 Jul 2025) EllapsedTime: 51.0 seconds RetCode: 0 Status: OK PackageFile: pogos_1.29.0.zip PackageFileSize: 873.5 KiB