Package: pogos Version: 1.29.0 Command: /home/biocbuild/bbs-3.22-bioc/R/bin/R CMD build --keep-empty-dirs --no-resave-data --md5 pogos StartedAt: 2025-07-14 18:38:11 -0400 (Mon, 14 Jul 2025) EndedAt: 2025-07-14 18:40:24 -0400 (Mon, 14 Jul 2025) EllapsedTime: 133.1 seconds RetCode: 0 Status: OK PackageFile: pogos_1.29.0.tar.gz PackageFileSize: 2.032 MiB