Package: pogos Version: 1.29.0 Command: /Library/Frameworks/R.framework/Resources/bin/R CMD build --keep-empty-dirs --no-resave-data pogos StartedAt: 2025-07-20 18:06:46 -0400 (Sun, 20 Jul 2025) EndedAt: 2025-07-20 18:09:15 -0400 (Sun, 20 Jul 2025) EllapsedTime: 148.5 seconds RetCode: 0 Status: OK PackageFile: pogos_1.29.0.tar.gz PackageFileSize: 2.094 MiB