Package: pmp Version: 1.21.0 Command: /home/biocbuild/R/R/bin/R CMD INSTALL pmp StartedAt: 2025-07-17 21:18:55 -0000 (Thu, 17 Jul 2025) EndedAt: 2025-07-17 21:19:26 -0000 (Thu, 17 Jul 2025) EllapsedTime: 31.3 seconds RetCode: 0 Status: OK