Package: pmp Version: 1.21.0 Command: /home/biocbuild/R/R/bin/R CMD check --install=check:pmp.install-out.txt --library=/home/biocbuild/R/R/site-library --no-vignettes --timings pmp_1.21.0.tar.gz StartedAt: 2025-07-18 09:56:56 -0000 (Fri, 18 Jul 2025) EndedAt: 2025-07-18 10:00:50 -0000 (Fri, 18 Jul 2025) EllapsedTime: 234.2 seconds RetCode: 1 Status: ERROR CheckDir: pmp.Rcheck Warnings: NA