Package: pmp Version: 1.21.0 Command: /home/biocbuild/R/R/bin/R CMD build --keep-empty-dirs --no-resave-data pmp StartedAt: 2025-07-18 02:04:54 -0000 (Fri, 18 Jul 2025) EndedAt: 2025-07-18 02:06:57 -0000 (Fri, 18 Jul 2025) EllapsedTime: 123.1 seconds RetCode: 0 Status: OK PackageFile: pmp_1.21.0.tar.gz PackageFileSize: 3.552 MiB