Package: pmp Version: 1.21.0 Command: /Library/Frameworks/R.framework/Resources/bin/R CMD check --install=check:pmp.install-out.txt --library=/Library/Frameworks/R.framework/Resources/library --no-vignettes --timings pmp_1.21.0.tar.gz StartedAt: 2025-07-18 22:37:50 -0400 (Fri, 18 Jul 2025) EndedAt: 2025-07-18 22:41:16 -0400 (Fri, 18 Jul 2025) EllapsedTime: 205.4 seconds RetCode: 0 Status: OK CheckDir: pmp.Rcheck Warnings: 0