Package: pmp Version: 1.21.0 Command: /Library/Frameworks/R.framework/Resources/bin/R CMD build --keep-empty-dirs --no-resave-data pmp StartedAt: 2025-07-18 17:55:16 -0400 (Fri, 18 Jul 2025) EndedAt: 2025-07-18 17:56:47 -0400 (Fri, 18 Jul 2025) EllapsedTime: 91.5 seconds RetCode: 0 Status: OK PackageFile: pmp_1.21.0.tar.gz PackageFileSize: 5.165 MiB