Package: pmp Version: 1.21.0 Command: /Library/Frameworks/R.framework/Resources/bin/R CMD INSTALL pmp StartedAt: 2025-07-18 15:30:57 -0400 (Fri, 18 Jul 2025) EndedAt: 2025-07-18 15:31:07 -0400 (Fri, 18 Jul 2025) EllapsedTime: 10.2 seconds RetCode: 0 Status: OK