Package: pmp Version: 1.21.0 Maintainer: Gavin Rhys Lloyd MaintainerEmail: g.r.lloyd at bham.ac.uk git_url: https://git.bioconductor.org/packages/pmp git_branch: devel git_last_commit: 0899db6 git_last_commit_date: 2025-04-15 11:53:47 -0400 (Tue, 15 Apr 2025)