Package: pmm Version: 1.41.0 Command: /home/biocbuild/R/R/bin/R CMD INSTALL pmm StartedAt: 2025-06-30 20:25:44 -0000 (Mon, 30 Jun 2025) EndedAt: 2025-06-30 20:26:24 -0000 (Mon, 30 Jun 2025) EllapsedTime: 40.0 seconds RetCode: 0 Status: OK