Package: pmm Version: 1.41.0 Command: /home/biocbuild/R/R/bin/R CMD build --keep-empty-dirs --no-resave-data pmm StartedAt: 2025-07-01 01:53:49 -0000 (Tue, 01 Jul 2025) EndedAt: 2025-07-01 01:54:18 -0000 (Tue, 01 Jul 2025) EllapsedTime: 29.0 seconds RetCode: 0 Status: OK PackageFile: pmm_1.41.0.tar.gz PackageFileSize: 764.8 KiB