Package: pmm Version: 1.41.0 Command: F:\biocbuild\bbs-3.22-bioc\R\bin\R.exe CMD check --no-multiarch --install=check:pmm.install-out.txt --library=F:\biocbuild\bbs-3.22-bioc\R\library --no-vignettes --timings pmm_1.41.0.tar.gz StartedAt: 2025-07-15 05:11:30 -0400 (Tue, 15 Jul 2025) EndedAt: 2025-07-15 05:13:10 -0400 (Tue, 15 Jul 2025) EllapsedTime: 100.9 seconds RetCode: 0 Status: OK CheckDir: pmm.Rcheck Warnings: 0