Package: pmm Version: 1.41.0 Command: chmod a+r pmm -R && F:\biocbuild\bbs-3.22-bioc\R\bin\R.exe CMD build --keep-empty-dirs --no-resave-data pmm StartedAt: 2025-07-14 21:15:04 -0400 (Mon, 14 Jul 2025) EndedAt: 2025-07-14 21:15:36 -0400 (Mon, 14 Jul 2025) EllapsedTime: 31.3 seconds RetCode: 0 Status: OK PackageFile: pmm_1.41.0.tar.gz PackageFileSize: 645.6 KiB