Package: pmm Version: 1.41.0 Command: rm -rf pmm.buildbin-libdir && mkdir pmm.buildbin-libdir && F:\biocbuild\bbs-3.22-bioc\R\bin\R.exe CMD INSTALL --build --library=pmm.buildbin-libdir pmm_1.41.0.tar.gz StartedAt: 2025-07-15 09:37:54 -0400 (Tue, 15 Jul 2025) EndedAt: 2025-07-15 09:38:06 -0400 (Tue, 15 Jul 2025) EllapsedTime: 11.9 seconds RetCode: 0 Status: OK PackageFile: pmm_1.41.0.zip PackageFileSize: 681.1 KiB