Package: pmm Version: 1.41.0 Command: /Library/Frameworks/R.framework/Resources/bin/R CMD INSTALL pmm StartedAt: 2025-07-07 15:11:53 -0400 (Mon, 07 Jul 2025) EndedAt: 2025-07-07 15:12:24 -0400 (Mon, 07 Jul 2025) EllapsedTime: 31.5 seconds RetCode: 0 Status: OK