Package: pmm Version: 1.41.0 Command: /Library/Frameworks/R.framework/Resources/bin/R CMD INSTALL pmm StartedAt: 2025-06-29 15:07:02 -0400 (Sun, 29 Jun 2025) EndedAt: 2025-06-29 15:07:09 -0400 (Sun, 29 Jun 2025) EllapsedTime: 7.0 seconds RetCode: 0 Status: OK