Package: pmm Version: 1.41.0 Command: rm -rf pmm.buildbin-libdir && mkdir pmm.buildbin-libdir && /Users/biocbuild/BBS/utils/build-universal.sh pmm_1.41.0.tar.gz /Library/Frameworks/R.framework/Resources/bin/R pmm.buildbin-libdir StartedAt: 2025-06-29 22:28:39 -0400 (Sun, 29 Jun 2025) EndedAt: 2025-06-29 22:28:42 -0400 (Sun, 29 Jun 2025) EllapsedTime: 3.1 seconds RetCode: 0 Status: OK PackageFile: pmm_1.41.0.tgz PackageFileSize: 809.9 KiB