Package: plyxp Version: 1.3.0 Command: chmod a+r plyxp -R && F:\biocbuild\bbs-3.22-bioc\R\bin\R.exe CMD build --keep-empty-dirs --no-resave-data plyxp StartedAt: 2025-07-24 21:26:49 -0400 (Thu, 24 Jul 2025) EndedAt: 2025-07-24 21:27:52 -0400 (Thu, 24 Jul 2025) EllapsedTime: 62.7 seconds RetCode: 0 Status: OK PackageFile: plyxp_1.3.0.tar.gz PackageFileSize: 1.176 MiB