Package: plyranges Version: 1.29.0 Command: /home/biocbuild/R/R/bin/R CMD build --keep-empty-dirs --no-resave-data plyranges StartedAt: 2025-07-18 02:04:20 -0000 (Fri, 18 Jul 2025) EndedAt: 2025-07-18 02:05:34 -0000 (Fri, 18 Jul 2025) EllapsedTime: 74.1 seconds RetCode: 0 Status: OK PackageFile: plyranges_1.29.0.tar.gz PackageFileSize: 1.3 MiB