Package: plyinteractions Version: 1.7.0 Command: F:\biocbuild\bbs-3.22-bioc\R\bin\R.exe CMD INSTALL plyinteractions StartedAt: 2025-07-22 16:00:42 -0400 (Tue, 22 Jul 2025) EndedAt: 2025-07-22 16:02:49 -0400 (Tue, 22 Jul 2025) EllapsedTime: 126.5 seconds RetCode: 0 Status: OK